BEGIN:VCALENDAR
VERSION:2.0
PRODID:-//EXTRON MIDDLE EAST TECHNICAL SUPPLIES  - ECPv6.14.2//NONSGML v1.0//EN
CALSCALE:GREGORIAN
METHOD:PUBLISH
X-WR-CALNAME:EXTRON MIDDLE EAST TECHNICAL SUPPLIES 
X-ORIGINAL-URL:https://extronme.com
X-WR-CALDESC:Events for EXTRON MIDDLE EAST TECHNICAL SUPPLIES 
REFRESH-INTERVAL;VALUE=DURATION:PT1H
X-Robots-Tag:noindex
X-PUBLISHED-TTL:PT1H
BEGIN:VTIMEZONE
TZID:UTC
BEGIN:STANDARD
TZOFFSETFROM:+0000
TZOFFSETTO:+0000
TZNAME:UTC
DTSTART:20230101T000000
END:STANDARD
END:VTIMEZONE
BEGIN:VEVENT
DTSTART;VALUE=DATE:20230419
DTEND;VALUE=DATE:20261206
DTSTAMP:20260421T074015
CREATED:20140731T003656Z
LAST-MODIFIED:20250821T080752Z
UID:8179-1681862400-1796515199@extronme.com
SUMMARY:Extron Showcases at UAE Construction & MEP Expo 2025
DESCRIPTION:Event description\n\n	\n	\n	\n\n\n\n	\n\n\n			\n	\n	In line with UAE’s sustainability vision\, Extonme is introducing eco-friendly materials and solutions across select product categories. From energy-efficient lighting to recyclable plumbing materials\, we are dedicated to supporting greener construction practices.
URL:https://extronme.com/events/extron-showcases-at-uae-construction-mep-expo-2025/
CATEGORIES:Industrial,Manufacturing,Oil&Gas Energy
ATTACH;FMTTYPE=image/jpeg:https://extronme.com/wp-content/uploads/2014/07/Event5-3.jpg
END:VEVENT
BEGIN:VEVENT
DTSTART;VALUE=DATE:20230420
DTEND;VALUE=DATE:20261127
DTSTAMP:20260421T074015
CREATED:20140731T003116Z
LAST-MODIFIED:20250821T080730Z
UID:9209-1681948800-1795737599@extronme.com
SUMMARY:Successful Supply for Major Infrastructure Project in Abu Dhabi
DESCRIPTION:Event description\n\n	\n	\n	\n\n\n\n	\n\n\n			\n	\n	In line with UAE’s sustainability vision\, Extonme is introducing eco-friendly materials and solutions across select product categories. From energy-efficient lighting to recyclable plumbing materials\, we are dedicated to supporting greener construction practices.
URL:https://extronme.com/events/successful-supply-for-major-infrastructure-project-in-abu-dhabi/
CATEGORIES:Engineering,Industrial,Management,Oil&Gas Energy
ATTACH;FMTTYPE=image/jpeg:https://extronme.com/wp-content/uploads/2014/07/Event4-3.jpg
END:VEVENT
END:VCALENDAR